BEGIN:VCALENDAR
VERSION:2.0
PRODID:icalendar-ruby
CALSCALE:GREGORIAN
METHOD:PUBLISH
BEGIN:VEVENT
DTSTAMP:20260424T042053Z
UID:52-613454@thechurch280.tithelysetup5.com
DTSTART:20261018T120000Z
DTEND:20261018T130000Z
CLASS:PUBLIC
CREATED:20260423T222206
DESCRIPTION:A small intimate 8:00 AM Holy Communion service\, taking place 
 in the Chapel.\nThis service does not offer any music.
LAST-MODIFIED:20260423T222206
LOCATION:Chapel
SUMMARY:Sunday Service
URL;VALUE=URI:https://www.stjohnslondon.ca/events/sunday-service--52/2026-1
 0-18
ATTACH;FILENAME=18952829_1081452435288452_2360732083126285591_n.jpg;FMTTYPE
 =image/jpeg:https://dq5pwpg1q8ru0.cloudfront.net/2024/11/06/17/17/55/5b561
 1f9-917a-4f8e-9eda-f9744976938e/18952829_1081452435288452_2360732083126285
 591_n.jpg
END:VEVENT
END:VCALENDAR
